BEGIN:VCALENDAR
VERSION:2.0
PRODID:-//Big Sky Wind Drinkers - ECPv6.15.20//NONSGML v1.0//EN
CALSCALE:GREGORIAN
METHOD:PUBLISH
X-ORIGINAL-URL:https://winddrinkers.org/trailhead
X-WR-CALDESC:Events for Big Sky Wind Drinkers
REFRESH-INTERVAL;VALUE=DURATION:PT1H
X-Robots-Tag:noindex
X-PUBLISHED-TTL:PT1H
BEGIN:VTIMEZONE
TZID:America/Denver
BEGIN:DAYLIGHT
TZOFFSETFROM:-0700
TZOFFSETTO:-0600
TZNAME:MDT
DTSTART:20240310T090000
END:DAYLIGHT
BEGIN:STANDARD
TZOFFSETFROM:-0600
TZOFFSETTO:-0700
TZNAME:MST
DTSTART:20241103T080000
END:STANDARD
BEGIN:DAYLIGHT
TZOFFSETFROM:-0700
TZOFFSETTO:-0600
TZNAME:MDT
DTSTART:20250309T090000
END:DAYLIGHT
BEGIN:STANDARD
TZOFFSETFROM:-0600
TZOFFSETTO:-0700
TZNAME:MST
DTSTART:20251102T080000
END:STANDARD
BEGIN:DAYLIGHT
TZOFFSETFROM:-0700
TZOFFSETTO:-0600
TZNAME:MDT
DTSTART:20260308T090000
END:DAYLIGHT
BEGIN:STANDARD
TZOFFSETFROM:-0600
TZOFFSETTO:-0700
TZNAME:MST
DTSTART:20261101T080000
END:STANDARD
END:VTIMEZONE
BEGIN:VEVENT
DTSTART;TZID=America/Denver:20250528T183000
DTEND;TZID=America/Denver:20250528T200000
DTSTAMP:20260425T082132
CREATED:20190504T180739Z
LAST-MODIFIED:20250412T221855Z
UID:10000231-1748457000-1748462400@winddrinkers.org
SUMMARY:Andy Blank MSU Track and Trails Run
DESCRIPTION:Come run trails from the Montana State football stadium\, using the trails south of Museum of the Rockies! \nTo reach the start\, head to Kagy and South 7th\, and take South 7th south\, between the stadium and Museum of the Rockies. Turn right and head through the parking lot (MSU Lot 25\, open parking after 6 PM) to the area between the stadium and the track.  Runs will start at the Bobcat Track Plaza on the west side of the track complex.
URL:https://winddrinkers.org/trailhead/event/msu_track/
LOCATION:MSU Track & Field Sport Complex\, 2000-2022 Stadium Dr.\, Bozeman\, MT\, 59715\, United States
CATEGORIES:All Events,BSWD Summer Fun Runs
GEO:45.6589784;-111.0547528
X-APPLE-STRUCTURED-LOCATION;VALUE=URI;X-ADDRESS=MSU Track & Field Sport Complex 2000-2022 Stadium Dr. Bozeman MT 59715 United States;X-APPLE-RADIUS=500;X-TITLE=2000-2022 Stadium Dr.:geo:-111.0547528,45.6589784
END:VEVENT
END:VCALENDAR