BEGIN:VCALENDAR
VERSION:2.0
PRODID:-//Big Sky Wind Drinkers - ECPv6.15.20//NONSGML v1.0//EN
CALSCALE:GREGORIAN
METHOD:PUBLISH
X-ORIGINAL-URL:https://winddrinkers.org/trailhead
X-WR-CALDESC:Events for Big Sky Wind Drinkers
REFRESH-INTERVAL;VALUE=DURATION:PT1H
X-Robots-Tag:noindex
X-PUBLISHED-TTL:PT1H
BEGIN:VTIMEZONE
TZID:America/Denver
BEGIN:DAYLIGHT
TZOFFSETFROM:-0700
TZOFFSETTO:-0600
TZNAME:MDT
DTSTART:20240310T090000
END:DAYLIGHT
BEGIN:STANDARD
TZOFFSETFROM:-0600
TZOFFSETTO:-0700
TZNAME:MST
DTSTART:20241103T080000
END:STANDARD
BEGIN:DAYLIGHT
TZOFFSETFROM:-0700
TZOFFSETTO:-0600
TZNAME:MDT
DTSTART:20250309T090000
END:DAYLIGHT
BEGIN:STANDARD
TZOFFSETFROM:-0600
TZOFFSETTO:-0700
TZNAME:MST
DTSTART:20251102T080000
END:STANDARD
BEGIN:DAYLIGHT
TZOFFSETFROM:-0700
TZOFFSETTO:-0600
TZNAME:MDT
DTSTART:20260308T090000
END:DAYLIGHT
BEGIN:STANDARD
TZOFFSETFROM:-0600
TZOFFSETTO:-0700
TZNAME:MST
DTSTART:20261101T080000
END:STANDARD
END:VTIMEZONE
BEGIN:VEVENT
DTSTART;TZID=America/Denver:20250709T183000
DTEND;TZID=America/Denver:20250709T200000
DTSTAMP:20260425T092618
CREATED:20160425T083537Z
LAST-MODIFIED:20250412T223928Z
UID:10000215-1752085800-1752091200@winddrinkers.org
SUMMARY:Fun Run - Bear Canyon
DESCRIPTION:One of Frank Dougher’s favorite runs of the year!  We offer 1-\, 3-\, and 5-ish mile options up the Bear Creek drainage on trails and dirt roads.  These runs are great hill work-outs – and (bonus!) the last half is all downhill! \nYou can bring your favorite 4-legged\, cold-nosed friend along for the run!  Just please remember that dogs need to be leashed to participate!  We look forward to seeing you!
URL:https://winddrinkers.org/trailhead/event/bear-canyon/
LOCATION:Bear Canyon TH
CATEGORIES:All Events,BSWD Summer Fun Runs
ATTACH;FMTTYPE=:
END:VEVENT
BEGIN:VEVENT
DTSTART;TZID=America/Denver:20250712T170000
DTEND;TZID=America/Denver:20250712T200000
DTSTAMP:20260425T092618
CREATED:20250629T160755Z
LAST-MODIFIED:20250629T161007Z
UID:10000370-1752339600-1752350400@winddrinkers.org
SUMMARY:Headwaters State Park - John Coulter
DESCRIPTION:Join us for a special event Saturday July 12th at Missouri Headwaters State Park. There will be a fun run with the usual distances followed by a BBQ and a special guest lecture about John Coulter \nPlease bring your own chair for this event. \n5:00 PM Fun run at the state park. The usual short\, medium\, and long distances will be available. \n6:00 PM BBQ with refreshments for all participants and park visitors \n7:00 PM – Listen to an amazing Guest Lecture around the fire pit in one of the most beautiful MT Parks right in our backyard! Missouri Headwaters State Park Speaker Series: The life of John Coulter by Duane Buchi \n  \nhttps://fwp.mt.gov/stateparks/missouri-headwaters/
URL:https://winddrinkers.org/trailhead/event/headwaters-state-park-john-coulter/
LOCATION:Missouri Headwaters State Park\, Missouri Headwaters State Park\, Three Forks\, MT\, United States
GEO:45.9327059;-111.4930232
X-APPLE-STRUCTURED-LOCATION;VALUE=URI;X-ADDRESS=Missouri Headwaters State Park Missouri Headwaters State Park Three Forks MT United States;X-APPLE-RADIUS=500;X-TITLE=Missouri Headwaters State Park:geo:-111.4930232,45.9327059
END:VEVENT
END:VCALENDAR