BEGIN:VCALENDAR
VERSION:2.0
PRODID:-//Big Sky Wind Drinkers - ECPv6.15.20//NONSGML v1.0//EN
CALSCALE:GREGORIAN
METHOD:PUBLISH
X-ORIGINAL-URL:https://winddrinkers.org/trailhead
X-WR-CALDESC:Events for Big Sky Wind Drinkers
REFRESH-INTERVAL;VALUE=DURATION:PT1H
X-Robots-Tag:noindex
X-PUBLISHED-TTL:PT1H
BEGIN:VTIMEZONE
TZID:America/Denver
BEGIN:DAYLIGHT
TZOFFSETFROM:-0700
TZOFFSETTO:-0600
TZNAME:MDT
DTSTART:20240310T090000
END:DAYLIGHT
BEGIN:STANDARD
TZOFFSETFROM:-0600
TZOFFSETTO:-0700
TZNAME:MST
DTSTART:20241103T080000
END:STANDARD
BEGIN:DAYLIGHT
TZOFFSETFROM:-0700
TZOFFSETTO:-0600
TZNAME:MDT
DTSTART:20250309T090000
END:DAYLIGHT
BEGIN:STANDARD
TZOFFSETFROM:-0600
TZOFFSETTO:-0700
TZNAME:MST
DTSTART:20251102T080000
END:STANDARD
BEGIN:DAYLIGHT
TZOFFSETFROM:-0700
TZOFFSETTO:-0600
TZNAME:MDT
DTSTART:20260308T090000
END:DAYLIGHT
BEGIN:STANDARD
TZOFFSETFROM:-0600
TZOFFSETTO:-0700
TZNAME:MST
DTSTART:20261101T080000
END:STANDARD
END:VTIMEZONE
BEGIN:VEVENT
DTSTART;TZID=America/Denver:20250723T183000
DTEND;TZID=America/Denver:20250723T200000
DTSTAMP:20260425T065727
CREATED:20230420T030314Z
LAST-MODIFIED:20250412T224548Z
UID:10000359-1753295400-1753300800@winddrinkers.org
SUMMARY:Fun Run - Lower Mount Ellis
DESCRIPTION:The Lower Mt. Ellis trail begins by crossing a large open field with a steady incline (bikers\, take note: it’s a bit of a grunt). At the top of the field is treeline\, where an old logging road takes you up and around to the east side of the mountain. After a couple miles and a few switchbacks\, the logging road takes a hard left\, and a single-track trail continues up the flank of the mountain—straight up\, mind you. After gaining a knoll\, the final ascent gets even steeper\, eventually topping out on a limestone outcropping with sweeping views of Triple Tree below\, the Gallatin Valley beyond\, and mountain ranges in all directions. If you’re not too pooped\, continue south along the ridge to Mt. Ellis.
URL:https://winddrinkers.org/trailhead/event/fun-run-lower-mount-ellis/
LOCATION:Lower Mount Ellis\, Mt Ellis Ln\, Bozeman\, MT\, 59715\, United States
CATEGORIES:All Events,BSWD Summer Fun Runs
ATTACH;FMTTYPE=:
GEO:45.62762;-110.9604
X-APPLE-STRUCTURED-LOCATION;VALUE=URI;X-ADDRESS=Lower Mount Ellis Mt Ellis Ln Bozeman MT 59715 United States;X-APPLE-RADIUS=500;X-TITLE=Mt Ellis Ln:geo:-110.9604,45.62762
END:VEVENT
END:VCALENDAR