BEGIN:VCALENDAR
VERSION:2.0
PRODID:-//Big Sky Wind Drinkers - ECPv6.15.20//NONSGML v1.0//EN
CALSCALE:GREGORIAN
METHOD:PUBLISH
X-WR-CALNAME:Big Sky Wind Drinkers
X-ORIGINAL-URL:https://winddrinkers.org/trailhead
X-WR-CALDESC:Events for Big Sky Wind Drinkers
REFRESH-INTERVAL;VALUE=DURATION:PT1H
X-Robots-Tag:noindex
X-PUBLISHED-TTL:PT1H
BEGIN:VTIMEZONE
TZID:America/Denver
BEGIN:DAYLIGHT
TZOFFSETFROM:-0700
TZOFFSETTO:-0600
TZNAME:MDT
DTSTART:20240310T090000
END:DAYLIGHT
BEGIN:STANDARD
TZOFFSETFROM:-0600
TZOFFSETTO:-0700
TZNAME:MST
DTSTART:20241103T080000
END:STANDARD
BEGIN:DAYLIGHT
TZOFFSETFROM:-0700
TZOFFSETTO:-0600
TZNAME:MDT
DTSTART:20250309T090000
END:DAYLIGHT
BEGIN:STANDARD
TZOFFSETFROM:-0600
TZOFFSETTO:-0700
TZNAME:MST
DTSTART:20251102T080000
END:STANDARD
BEGIN:DAYLIGHT
TZOFFSETFROM:-0700
TZOFFSETTO:-0600
TZNAME:MDT
DTSTART:20260308T090000
END:DAYLIGHT
BEGIN:STANDARD
TZOFFSETFROM:-0600
TZOFFSETTO:-0700
TZNAME:MST
DTSTART:20261101T080000
END:STANDARD
END:VTIMEZONE
BEGIN:VEVENT
DTSTART;TZID=America/Denver:20250813T063000
DTEND;TZID=America/Denver:20250813T200000
DTSTAMP:20260425T113512
CREATED:20250808T145624Z
LAST-MODIFIED:20250808T150943Z
UID:10000372-1755066600-1755115200@winddrinkers.org
SUMMARY:River Rock Run
DESCRIPTION:When the thought of running across rocks during the Ridge Run is a bit intimidating\, come join us with a nice gentle run around River Rock in Belgrade \n  \nThere will be the standard a 1\,3\,5 mile options. It will start on the east side of the River Rock Pond. There is parking along the road on River Rock Rd as well as The Cove Parking Lot.
URL:https://winddrinkers.org/trailhead/event/river-rock-run/
LOCATION:River Rock Pond\, Belgrade\, MT\, United States
GEO:45.775449;-111.217352
END:VEVENT
END:VCALENDAR