BEGIN:VCALENDAR
VERSION:2.0
PRODID:-//Big Sky Wind Drinkers - ECPv6.15.20//NONSGML v1.0//EN
CALSCALE:GREGORIAN
METHOD:PUBLISH
X-ORIGINAL-URL:https://winddrinkers.org/trailhead
X-WR-CALDESC:Events for Big Sky Wind Drinkers
REFRESH-INTERVAL;VALUE=DURATION:PT1H
X-Robots-Tag:noindex
X-PUBLISHED-TTL:PT1H
BEGIN:VTIMEZONE
TZID:America/Denver
BEGIN:DAYLIGHT
TZOFFSETFROM:-0700
TZOFFSETTO:-0600
TZNAME:MDT
DTSTART:20240310T090000
END:DAYLIGHT
BEGIN:STANDARD
TZOFFSETFROM:-0600
TZOFFSETTO:-0700
TZNAME:MST
DTSTART:20241103T080000
END:STANDARD
BEGIN:DAYLIGHT
TZOFFSETFROM:-0700
TZOFFSETTO:-0600
TZNAME:MDT
DTSTART:20250309T090000
END:DAYLIGHT
BEGIN:STANDARD
TZOFFSETFROM:-0600
TZOFFSETTO:-0700
TZNAME:MST
DTSTART:20251102T080000
END:STANDARD
BEGIN:DAYLIGHT
TZOFFSETFROM:-0700
TZOFFSETTO:-0600
TZNAME:MDT
DTSTART:20260308T090000
END:DAYLIGHT
BEGIN:STANDARD
TZOFFSETFROM:-0600
TZOFFSETTO:-0700
TZNAME:MST
DTSTART:20261101T080000
END:STANDARD
END:VTIMEZONE
BEGIN:VEVENT
DTSTART;TZID=America/Denver:20250917T183000
DTEND;TZID=America/Denver:20250917T200000
DTSTAMP:20260425T075845
CREATED:20210524T184209Z
LAST-MODIFIED:20250412T231141Z
UID:10000249-1758133800-1758139200@winddrinkers.org
SUMMARY:Fun Run - Cherry River
DESCRIPTION:Come run trails from the Cherry River Fishing Access site.
URL:https://winddrinkers.org/trailhead/event/fun-run-cherry-river/
LOCATION:Cherry River Fishing Access\, 27812-\, 27822 Frontage Rd\, Bozeman\, MT\, 59718\, United States
CATEGORIES:All Events,BSWD Summer Fun Runs
GEO:45.7102049;-111.0504642
X-APPLE-STRUCTURED-LOCATION;VALUE=URI;X-ADDRESS=Cherry River Fishing Access 27812- 27822 Frontage Rd Bozeman MT 59718 United States;X-APPLE-RADIUS=500;X-TITLE=27812-\, 27822 Frontage Rd:geo:-111.0504642,45.7102049
END:VEVENT
END:VCALENDAR